BEGIN:VCALENDAR
VERSION:2.0
PRODID:-//scherpemich.de - ECPv6.15.20//NONSGML v1.0//EN
CALSCALE:GREGORIAN
METHOD:PUBLISH
X-WR-CALNAME:scherpemich.de
X-ORIGINAL-URL:https://scherpemich.de
X-WR-CALDESC:Veranstaltungen für scherpemich.de
REFRESH-INTERVAL;VALUE=DURATION:PT1H
X-Robots-Tag:noindex
X-PUBLISHED-TTL:PT1H
BEGIN:VTIMEZONE
TZID:Europe/Berlin
BEGIN:DAYLIGHT
TZOFFSETFROM:+0100
TZOFFSETTO:+0200
TZNAME:CEST
DTSTART:20250330T010000
END:DAYLIGHT
BEGIN:STANDARD
TZOFFSETFROM:+0200
TZOFFSETTO:+0100
TZNAME:CET
DTSTART:20251026T010000
END:STANDARD
BEGIN:DAYLIGHT
TZOFFSETFROM:+0100
TZOFFSETTO:+0200
TZNAME:CEST
DTSTART:20260329T010000
END:DAYLIGHT
BEGIN:STANDARD
TZOFFSETFROM:+0200
TZOFFSETTO:+0100
TZNAME:CET
DTSTART:20261025T010000
END:STANDARD
BEGIN:DAYLIGHT
TZOFFSETFROM:+0100
TZOFFSETTO:+0200
TZNAME:CEST
DTSTART:20270328T010000
END:DAYLIGHT
BEGIN:STANDARD
TZOFFSETFROM:+0200
TZOFFSETTO:+0100
TZNAME:CET
DTSTART:20271031T010000
END:STANDARD
END:VTIMEZONE
BEGIN:VEVENT
DTSTART;TZID=Europe/Berlin:20260815T130000
DTEND;TZID=Europe/Berlin:20260815T235900
DTSTAMP:20260420T031622
CREATED:20251124T110928Z
LAST-MODIFIED:20251124T110928Z
UID:7851-1786798800-1786838340@scherpemich.de
SUMMARY:Dorffest 2026
DESCRIPTION:Am 15.08.2026 lädt die Dorfgemeinschaft Scherpemich ab 13:00 Uhr herzlich zum Dorffest ein. \n\nFreut euch auf beliebte Highlights wie das Völkerballturnier und das traditionelle Schweinekistenrennen – Spannung und Spaß sind garantiert! \nAls Highlight für unsere kleinen Gäste lädt eine Hüpfburg zum Toben und Spielen ein. \nNatürlich dürfen auch kulinarische Klassiker nicht fehlen: Neben Bratwurst\, Pommes und mehr steht auch unsere Reibekuchenbude bereit\, um euch mit den traditionellen Scherpemicher Reibekuchen zu versorgen.\nWer es lieber süß mag\, kommt ebenfalls auf seine Kosten – mit einer Auswahl an selbst gebackenen Kuchen und Waffeln. \nWir freuen uns auf euren Besuch und einen schönen Tag in geselliger Runde!
URL:https://scherpemich.de/event/dorffest-2026/
LOCATION:Scherpemich\, Zeisigweg 6-10\, Neunkirchen-Seelscheid\, 53819\, Deutschland
CATEGORIES:Öffentlich
END:VEVENT
BEGIN:VEVENT
DTSTART;TZID=Europe/Berlin:20260925T170000
DTEND;TZID=Europe/Berlin:20260925T190000
DTSTAMP:20260420T031622
CREATED:20251124T111027Z
LAST-MODIFIED:20251124T111027Z
UID:7853-1790355600-1790362800@scherpemich.de
SUMMARY:Traditioneller Scherpemicher Reibekuchenverkauf
DESCRIPTION:Ab 17:00 Uhr findet wieder der Verkauf unserer traditionellen Scherpemicher Reibekuchen statt. \nBesuchen Sie uns gerne an unserem Dorfhaus\, um einen schönen Abend mit uns zu verbringen!
URL:https://scherpemich.de/event/traditioneller-scherpemicher-reibekuchenverkauf-7/
LOCATION:Scherpemich\, Zeisigweg 6-10\, Neunkirchen-Seelscheid\, 53819\, Deutschland
CATEGORIES:Öffentlich
END:VEVENT
BEGIN:VEVENT
DTSTART;TZID=Europe/Berlin:20261023T170000
DTEND;TZID=Europe/Berlin:20261023T190000
DTSTAMP:20260420T031622
CREATED:20251124T111125Z
LAST-MODIFIED:20251124T111125Z
UID:7855-1792774800-1792782000@scherpemich.de
SUMMARY:Traditioneller Scherpemicher Reibekuchenverkauf
DESCRIPTION:Ab 17:00 Uhr findet wieder der Verkauf unserer traditionellen Scherpemicher Reibekuchen statt. \nBesuchen Sie uns gerne an unserem Dorfhaus\, um einen schönen Abend mit uns zu verbringen!
URL:https://scherpemich.de/event/traditioneller-scherpemicher-reibekuchenverkauf-8/
LOCATION:Scherpemich\, Zeisigweg 6-10\, Neunkirchen-Seelscheid\, 53819\, Deutschland
CATEGORIES:Öffentlich
END:VEVENT
BEGIN:VEVENT
DTSTART;VALUE=DATE:20261128
DTEND;VALUE=DATE:20261129
DTSTAMP:20260420T031622
CREATED:20251124T111205Z
LAST-MODIFIED:20251124T111205Z
UID:7857-1795824000-1795910399@scherpemich.de
SUMMARY:Weihnachtsmarkt in Seelscheid
DESCRIPTION:
URL:https://scherpemich.de/event/weihnachtsmarkt-in-seelscheid-3/
LOCATION:Seelscheid\, Neunkirchen-Seelscheid\, 53819\, Deutschland
CATEGORIES:Öffentlich
END:VEVENT
BEGIN:VEVENT
DTSTART;TZID=Europe/Berlin:20261219T150000
DTEND;TZID=Europe/Berlin:20261219T210000
DTSTAMP:20260420T031622
CREATED:20251124T111424Z
LAST-MODIFIED:20251124T111424Z
UID:7859-1797692400-1797714000@scherpemich.de
SUMMARY:Winterzauber 2026
DESCRIPTION:Die Dorfgemeinschaft Scherpemich lädt herzlich zum diesjährigen Winterzauber ein.\nAm 19.12.2026 können Sie ab 15:00 Uhr auf dem Dorfplatz in Scherpemich gemeinsam mit uns in gemütlicher Atmosphäre die vorweihnachtliche Zeit genießen. \n\nNeben leckeren XL-Bratwürstchen\, Pommes und den traditionellen Scherpemicher Reibekuchen bieten wir für den süßen Genuss auch Waffeln und Maronen an. \nZu den kulinarischen Angeboten gesellt sich unser Glühwein vom Winzer sowie Kirschpunsch. Für große und kleine Gäste\, die lieber auf Alkohol verzichten möchten\, haben wir Kinderpunsch im Angebot. \nEs fehlen noch die letzten Weihnachtsgeschenke? Dann werden Sie sicher an unserem Weihnachtsbasar fündig! \n  \nWir freuen uns sehr\, Sie bei unserem Winterzauber begrüßen zu dürfen! \n 
URL:https://scherpemich.de/event/winterzauber-2026/
LOCATION:Scherpemich\, Zeisigweg 6-10\, Neunkirchen-Seelscheid\, 53819\, Deutschland
CATEGORIES:Öffentlich
END:VEVENT
END:VCALENDAR